Back to Build/check report for BioC 3.14 experimental data
AB[C]DEFGHIJKLMNOPQRSTUVWXYZ

This page was generated on 2021-10-16 15:51:45 -0400 (Sat, 16 Oct 2021).

All results for package curatedAdipoRNA

To the developers/maintainers of the curatedAdipoRNA package:
Make sure to use the following settings in order to reproduce any error or warning you see on this page.

raw results

Package 79/404HostnameOS / ArchINSTALLBUILDCHECK
curatedAdipoRNA 1.9.0  (landing page)
Mahmoud Ahmed
Snapshot Date: 2021-10-16 09:30:02 -0400 (Sat, 16 Oct 2021)
git_url: https://git.bioconductor.org/packages/curatedAdipoRNA
git_branch: master
git_last_commit: c12405a
git_last_commit_date: 2021-05-19 12:07:56 -0400 (Wed, 19 May 2021)
nebbiolo2Linux (Ubuntu 20.04.2 LTS) / x86_64  OK    OK    WARNINGS  UNNEEDED, same version is already published