Back to Build/check report for BioC 3.15 experimental data
AB[C]DEFGHIJKLMNOPQRSTUVWXYZ

This page was generated on 2021-12-05 17:50:12 -0500 (Sun, 05 Dec 2021).

BUILD results for curatedAdipoChIP on nebbiolo2

To the developers/maintainers of the curatedAdipoChIP package:
Make sure to use the following settings in order to reproduce any error or warning you see on this page.

raw results

Package 76/404HostnameOS / ArchINSTALLBUILDCHECK
curatedAdipoChIP 1.11.0  (landing page)
Mahmoud Ahmed
Snapshot Date: 2021-12-05 07:30:02 -0500 (Sun, 05 Dec 2021)
git_url: https://git.bioconductor.org/packages/curatedAdipoChIP
git_branch: master
git_last_commit: 2a44c0e
git_last_commit_date: 2021-10-26 12:35:53 -0500 (Tue, 26 Oct 2021)
nebbiolo2Linux (Ubuntu 20.04.3 LTS) / x86_64  OK    OK    OK  UNNEEDED, same version is already published

Summary

Package: curatedAdipoChIP
Version: 1.11.0
Command: /home/biocbuild/bbs-3.15-data-experiment/R/bin/R CMD build --keep-empty-dirs --no-resave-data curatedAdipoChIP
StartedAt: 2021-12-05 13:13:24 -0500 (Sun, 05 Dec 2021)
EndedAt: 2021-12-05 13:14:50 -0500 (Sun, 05 Dec 2021)
EllapsedTime: 86.1 seconds
RetCode: 0
Status:   OK  
PackageFile: curatedAdipoChIP_1.11.0.tar.gz
PackageFileSize: 105.1 KiB

Command output

##############################################################################
##############################################################################
###
### Running command:
###
###   /home/biocbuild/bbs-3.15-data-experiment/R/bin/R CMD build --keep-empty-dirs --no-resave-data curatedAdipoChIP
###
##############################################################################
##############################################################################


* checking for file ‘curatedAdipoChIP/DESCRIPTION’ ... OK
* preparing ‘curatedAdipoChIP’:
* checking DESCRIPTION meta-information ... OK
* installing the package to build vignettes
* creating vignettes ... OK
* checking for LF line-endings in source and make files and shell scripts
* checking for empty or unneeded directories
* building ‘curatedAdipoChIP_1.11.0.tar.gz’