Back to Build/check report for BioC 3.14 experimental data
AB[C]DEFGHIJKLMNOPQRSTUVWXYZ

This page was generated on 2021-10-23 15:51:46 -0400 (Sat, 23 Oct 2021).

BUILD results for cnvGSAdata on nebbiolo2

To the developers/maintainers of the cnvGSAdata package:
Make sure to use the following settings in order to reproduce any error or warning you see on this page.

raw results

Package 67/408HostnameOS / ArchINSTALLBUILDCHECK
cnvGSAdata 1.29.0  (landing page)
Joseph Lugo
Snapshot Date: 2021-10-23 09:30:01 -0400 (Sat, 23 Oct 2021)
git_url: https://git.bioconductor.org/packages/cnvGSAdata
git_branch: master
git_last_commit: 89dfbad
git_last_commit_date: 2021-05-19 11:34:06 -0400 (Wed, 19 May 2021)
nebbiolo2Linux (Ubuntu 20.04.2 LTS) / x86_64  OK    OK    WARNINGS  UNNEEDED, same version is already published

Summary

Package: cnvGSAdata
Version: 1.29.0
Command: /home/biocbuild/bbs-3.14-bioc/R/bin/R CMD build --keep-empty-dirs --no-resave-data cnvGSAdata
StartedAt: 2021-10-23 11:13:09 -0400 (Sat, 23 Oct 2021)
EndedAt: 2021-10-23 11:13:10 -0400 (Sat, 23 Oct 2021)
EllapsedTime: 1.0 seconds
RetCode: 0
Status:   OK  
PackageFile: cnvGSAdata_1.29.0.tar.gz
PackageFileSize: 6.235 MiB

Command output

##############################################################################
##############################################################################
###
### Running command:
###
###   /home/biocbuild/bbs-3.14-bioc/R/bin/R CMD build --keep-empty-dirs --no-resave-data cnvGSAdata
###
##############################################################################
##############################################################################


* checking for file ‘cnvGSAdata/DESCRIPTION’ ... OK
* preparing ‘cnvGSAdata’:
* checking DESCRIPTION meta-information ... OK
* checking for LF line-endings in source and make files and shell scripts
* checking for empty or unneeded directories
* looking to see if a ‘data/datalist’ file should be added
* building ‘cnvGSAdata_1.29.0.tar.gz’