Back to Build/check report for BioC 3.14 experimental data
AB[C]DEFGHIJKLMNOPQRSTUVWXYZ

This page was generated on 2021-10-23 15:51:46 -0400 (Sat, 23 Oct 2021).

CHECK results for clustifyrdatahub on nebbiolo2

To the developers/maintainers of the clustifyrdatahub package:
Make sure to use the following settings in order to reproduce any error or warning you see on this page.

raw results

Package 65/408HostnameOS / ArchINSTALLBUILDCHECK
clustifyrdatahub 1.3.0  (landing page)
Rui Fu
Snapshot Date: 2021-10-23 09:30:01 -0400 (Sat, 23 Oct 2021)
git_url: https://git.bioconductor.org/packages/clustifyrdatahub
git_branch: master
git_last_commit: 93b5627
git_last_commit_date: 2021-05-19 12:10:52 -0400 (Wed, 19 May 2021)
nebbiolo2Linux (Ubuntu 20.04.2 LTS) / x86_64  OK    OK    OK  UNNEEDED, same version is already published

Summary

Package: clustifyrdatahub
Version: 1.3.0
Command: /home/biocbuild/bbs-3.14-bioc/R/bin/R CMD check --install=check:clustifyrdatahub.install-out.txt --library=/home/biocbuild/bbs-3.14-bioc/R/library --no-vignettes --timings clustifyrdatahub_1.3.0.tar.gz
StartedAt: 2021-10-23 12:13:48 -0400 (Sat, 23 Oct 2021)
EndedAt: 2021-10-23 12:15:41 -0400 (Sat, 23 Oct 2021)
EllapsedTime: 113.3 seconds
RetCode: 0
Status:   OK  
CheckDir: clustifyrdatahub.Rcheck
Warnings: 0

Command output

##############################################################################
##############################################################################
###
### Running command:
###
###   /home/biocbuild/bbs-3.14-bioc/R/bin/R CMD check --install=check:clustifyrdatahub.install-out.txt --library=/home/biocbuild/bbs-3.14-bioc/R/library --no-vignettes --timings clustifyrdatahub_1.3.0.tar.gz
###
##############################################################################
##############################################################################


* using log directory ‘/home/biocbuild/bbs-3.14-data-experiment/meat/clustifyrdatahub.Rcheck’
* using R version 4.1.1 (2021-08-10)
* using platform: x86_64-pc-linux-gnu (64-bit)
* using session charset: UTF-8
* using option ‘--no-vignettes’
* checking for file ‘clustifyrdatahub/DESCRIPTION’ ... OK
* this is package ‘clustifyrdatahub’ version ‘1.3.0’
* package encoding: UTF-8
* checking package namespace information ... OK
* checking package dependencies ... OK
* checking if this is a source package ... OK
* checking if there is a namespace ... OK
* checking for hidden files and directories ... OK
* checking for portable file names ... OK
* checking for sufficient/correct file permissions ... OK
* checking whether package ‘clustifyrdatahub’ can be installed ... OK
* checking installed package size ... OK
* checking package directory ... OK
* checking ‘build’ directory ... OK
* checking DESCRIPTION meta-information ... OK
* checking top-level files ... OK
* checking for left-over files ... OK
* checking index information ... OK
* checking package subdirectories ... OK
* checking R files for non-ASCII characters ... OK
* checking R files for syntax errors ... OK
* checking whether the package can be loaded ... OK
* checking whether the package can be loaded with stated dependencies ... OK
* checking whether the package can be unloaded cleanly ... OK
* checking whether the namespace can be loaded with stated dependencies ... OK
* checking whether the namespace can be unloaded cleanly ... OK
* checking dependencies in R code ... OK
* checking S3 generic/method consistency ... OK
* checking replacement functions ... OK
* checking foreign function calls ... OK
* checking R code for possible problems ... OK
* checking Rd files ... OK
* checking Rd metadata ... OK
* checking Rd cross-references ... OK
* checking for missing documentation entries ... OK
* checking for code/documentation mismatches ... OK
* checking Rd \usage sections ... OK
* checking Rd contents ... OK
* checking for unstated dependencies in examples ... OK
* checking files in ‘vignettes’ ... OK
* checking examples ... OK
* checking for unstated dependencies in vignettes ... OK
* checking package vignettes in ‘inst/doc’ ... OK
* checking running R code from vignettes ... SKIPPED
* checking re-building of vignette outputs ... SKIPPED
* checking PDF version of manual ... OK
* DONE

Status: OK


Installation output

clustifyrdatahub.Rcheck/00install.out

##############################################################################
##############################################################################
###
### Running command:
###
###   /home/biocbuild/bbs-3.14-bioc/R/bin/R CMD INSTALL clustifyrdatahub
###
##############################################################################
##############################################################################


* installing to library ‘/home/biocbuild/bbs-3.14-bioc/R/library’
* installing *source* package ‘clustifyrdatahub’ ...
** using staged installation
** R
** inst
** byte-compile and prepare package for lazy loading
** help
*** installing help indices
** building package indices
** installing vignettes
** testing if installed package can be loaded from temporary location
snapshotDate(): 2021-10-18
** testing if installed package can be loaded from final location
snapshotDate(): 2021-10-18
** testing if installed package keeps a record of temporary installation path
* DONE (clustifyrdatahub)

Tests output


Example timings

clustifyrdatahub.Rcheck/clustifyrdatahub-Ex.timings

nameusersystemelapsed
ref_MCA0.030.000.03
ref_cortex_dev0.0260.0000.027
ref_hema_microarray0.0250.0000.025
ref_immgen0.0250.0040.029
ref_moca_main0.0260.0000.026
ref_mouse.rnaseq0.0240.0000.024
ref_mouse_atlas0.0220.0040.026
ref_pan_indrop0.0280.0000.028
ref_pan_smartseq20.0260.0000.026
ref_tabula_muris_drop0.0260.0000.026
ref_tabula_muris_facs0.0210.0040.025