Back to Build/check report for BioC 3.14 experimental data
AB[C]DEFGHIJKLMNOPQRSTUVWXYZ

This page was generated on 2021-10-19 15:52:17 -0400 (Tue, 19 Oct 2021).

BUILD results for chipseqDBData on nebbiolo2

To the developers/maintainers of the chipseqDBData package:
Make sure to use the following settings in order to reproduce any error or warning you see on this page.

raw results

Package 59/404HostnameOS / ArchINSTALLBUILDCHECK
chipseqDBData 1.9.1  (landing page)
Aaron Lun
Snapshot Date: 2021-10-19 09:30:02 -0400 (Tue, 19 Oct 2021)
git_url: https://git.bioconductor.org/packages/chipseqDBData
git_branch: master
git_last_commit: f0aef49
git_last_commit_date: 2021-06-30 04:13:00 -0400 (Wed, 30 Jun 2021)
nebbiolo2Linux (Ubuntu 20.04.2 LTS) / x86_64  OK    OK    OK  UNNEEDED, same version is already published

Summary

Package: chipseqDBData
Version: 1.9.1
Command: /home/biocbuild/bbs-3.14-bioc/R/bin/R CMD build --keep-empty-dirs --no-resave-data chipseqDBData
StartedAt: 2021-10-19 11:12:05 -0400 (Tue, 19 Oct 2021)
EndedAt: 2021-10-19 11:13:12 -0400 (Tue, 19 Oct 2021)
EllapsedTime: 67.5 seconds
RetCode: 0
Status:   OK  
PackageFile: chipseqDBData_1.9.1.tar.gz
PackageFileSize: 285.9 KiB

Command output

##############################################################################
##############################################################################
###
### Running command:
###
###   /home/biocbuild/bbs-3.14-bioc/R/bin/R CMD build --keep-empty-dirs --no-resave-data chipseqDBData
###
##############################################################################
##############################################################################


* checking for file ‘chipseqDBData/DESCRIPTION’ ... OK
* preparing ‘chipseqDBData’:
* checking DESCRIPTION meta-information ... OK
* installing the package to build vignettes
* creating vignettes ... OK
* checking for LF line-endings in source and make files and shell scripts
* checking for empty or unneeded directories
* building ‘chipseqDBData_1.9.1.tar.gz’