Back to Build/check report for BioC 3.14 experimental data
AB[C]DEFGHIJKLMNOPQRSTUVWXYZ

This page was generated on 2021-10-23 15:51:46 -0400 (Sat, 23 Oct 2021).

BUILD results for celldex on nebbiolo2

To the developers/maintainers of the celldex package:
Make sure to use the following settings in order to reproduce any error or warning you see on this page.

raw results

Package 52/408HostnameOS / ArchINSTALLBUILDCHECK
celldex 1.3.0  (landing page)
Aaron Lun
Snapshot Date: 2021-10-23 09:30:01 -0400 (Sat, 23 Oct 2021)
git_url: https://git.bioconductor.org/packages/celldex
git_branch: master
git_last_commit: ba4242d
git_last_commit_date: 2021-05-19 12:10:35 -0400 (Wed, 19 May 2021)
nebbiolo2Linux (Ubuntu 20.04.2 LTS) / x86_64  OK    OK    WARNINGS  UNNEEDED, same version is already published

Summary

Package: celldex
Version: 1.3.0
Command: /home/biocbuild/bbs-3.14-bioc/R/bin/R CMD build --keep-empty-dirs --no-resave-data celldex
StartedAt: 2021-10-23 11:11:31 -0400 (Sat, 23 Oct 2021)
EndedAt: 2021-10-23 11:12:47 -0400 (Sat, 23 Oct 2021)
EllapsedTime: 75.4 seconds
RetCode: 0
Status:   OK  
PackageFile: celldex_1.3.0.tar.gz
PackageFileSize: 376.9 KiB

Command output

##############################################################################
##############################################################################
###
### Running command:
###
###   /home/biocbuild/bbs-3.14-bioc/R/bin/R CMD build --keep-empty-dirs --no-resave-data celldex
###
##############################################################################
##############################################################################


* checking for file ‘celldex/DESCRIPTION’ ... OK
* preparing ‘celldex’:
* checking DESCRIPTION meta-information ... OK
* installing the package to build vignettes
* creating vignettes ... OK
* checking for LF line-endings in source and make files and shell scripts
* checking for empty or unneeded directories
* building ‘celldex_1.3.0.tar.gz’