Back to Build/check report for BioC 3.15 experimental data
AB[C]DEFGHIJKLMNOPQRSTUVWXYZ

This page was generated on 2021-11-28 18:35:03 -0500 (Sun, 28 Nov 2021).

INSTALL results for celarefData on nebbiolo2

To the developers/maintainers of the celarefData package:
Make sure to use the following settings in order to reproduce any error or warning you see on this page.

raw results

Package 49/404HostnameOS / ArchINSTALLBUILDCHECK
celarefData 1.13.0  (landing page)
Sarah Williams
Snapshot Date: 2021-11-28 08:30:02 -0500 (Sun, 28 Nov 2021)
git_url: https://git.bioconductor.org/packages/celarefData
git_branch: master
git_last_commit: 93ed711
git_last_commit_date: 2021-10-26 12:32:45 -0500 (Tue, 26 Oct 2021)
nebbiolo2Linux (Ubuntu 20.04.3 LTS) / x86_64  OK    OK    OK  UNNEEDED, same version is already published

Summary

Package: celarefData
Version: 1.13.0
Command: /home/biocbuild/bbs-3.15-data-experiment/R/bin/R CMD INSTALL celarefData
StartedAt: 2021-11-28 14:01:19 -0500 (Sun, 28 Nov 2021)
EndedAt: 2021-11-28 14:01:21 -0500 (Sun, 28 Nov 2021)
EllapsedTime: 1.3 seconds
RetCode: 0
Status:   OK  

Command output

##############################################################################
##############################################################################
###
### Running command:
###
###   /home/biocbuild/bbs-3.15-data-experiment/R/bin/R CMD INSTALL celarefData
###
##############################################################################
##############################################################################


* installing to library ‘/home/biocbuild/bbs-3.15-data-experiment/R/library’
* installing *source* package ‘celarefData’ ...
** using staged installation
** inst
** help
No man pages found in package  ‘celarefData’ 
*** installing help indices
** building package indices
** installing vignettes
** testing if installed package can be loaded from temporary location
** testing if installed package can be loaded from final location
** testing if installed package keeps a record of temporary installation path
* DONE (celarefData)