Back to Build/check report for BioC 3.14 experimental data
AB[C]DEFGHIJKLMNOPQRSTUVWXYZ

This page was generated on 2021-10-16 15:51:46 -0400 (Sat, 16 Oct 2021).

BUILD results for celarefData on nebbiolo2

To the developers/maintainers of the celarefData package:
Make sure to use the following settings in order to reproduce any error or warning you see on this page.

raw results

Package 51/404HostnameOS / ArchINSTALLBUILDCHECK
celarefData 1.11.0  (landing page)
Sarah Williams
Snapshot Date: 2021-10-16 09:30:02 -0400 (Sat, 16 Oct 2021)
git_url: https://git.bioconductor.org/packages/celarefData
git_branch: master
git_last_commit: 7131d80
git_last_commit_date: 2021-05-19 12:05:25 -0400 (Wed, 19 May 2021)
nebbiolo2Linux (Ubuntu 20.04.2 LTS) / x86_64  OK    OK    OK  UNNEEDED, same version is already published

Summary

Package: celarefData
Version: 1.11.0
Command: /home/biocbuild/bbs-3.14-bioc/R/bin/R CMD build --keep-empty-dirs --no-resave-data celarefData
StartedAt: 2021-10-16 11:11:03 -0400 (Sat, 16 Oct 2021)
EndedAt: 2021-10-16 11:11:50 -0400 (Sat, 16 Oct 2021)
EllapsedTime: 47.0 seconds
RetCode: 0
Status:   OK  
PackageFile: celarefData_1.11.0.tar.gz
PackageFileSize: 231.3 KiB

Command output

##############################################################################
##############################################################################
###
### Running command:
###
###   /home/biocbuild/bbs-3.14-bioc/R/bin/R CMD build --keep-empty-dirs --no-resave-data celarefData
###
##############################################################################
##############################################################################


* checking for file ‘celarefData/DESCRIPTION’ ... OK
* preparing ‘celarefData’:
* checking DESCRIPTION meta-information ... OK
* installing the package to build vignettes
* creating vignettes ... OK
* checking for LF line-endings in source and make files and shell scripts
* checking for empty or unneeded directories
Omitted ‘LazyData’ from DESCRIPTION
* building ‘celarefData_1.11.0.tar.gz’