Back to Build/check report for BioC 3.15 experimental data
AB[C]DEFGHIJKLMNOPQRSTUVWXYZ

This page was generated on 2021-11-28 18:35:03 -0500 (Sun, 28 Nov 2021).

INSTALL results for ccdata on nebbiolo2

To the developers/maintainers of the ccdata package:
Make sure to use the following settings in order to reproduce any error or warning you see on this page.

raw results

Package 46/404HostnameOS / ArchINSTALLBUILDCHECK
ccdata 1.21.0  (landing page)
Alex Pickering
Snapshot Date: 2021-11-28 08:30:02 -0500 (Sun, 28 Nov 2021)
git_url: https://git.bioconductor.org/packages/ccdata
git_branch: master
git_last_commit: 8558ac1
git_last_commit_date: 2021-10-26 12:26:53 -0500 (Tue, 26 Oct 2021)
nebbiolo2Linux (Ubuntu 20.04.3 LTS) / x86_64  OK    OK    WARNINGS  UNNEEDED, same version is already published

Summary

Package: ccdata
Version: 1.21.0
Command: /home/biocbuild/bbs-3.15-data-experiment/R/bin/R CMD INSTALL ccdata
StartedAt: 2021-11-28 14:00:42 -0500 (Sun, 28 Nov 2021)
EndedAt: 2021-11-28 14:00:46 -0500 (Sun, 28 Nov 2021)
EllapsedTime: 4.0 seconds
RetCode: 0
Status:   OK  

Command output

##############################################################################
##############################################################################
###
### Running command:
###
###   /home/biocbuild/bbs-3.15-data-experiment/R/bin/R CMD INSTALL ccdata
###
##############################################################################
##############################################################################


* installing to library ‘/home/biocbuild/bbs-3.15-data-experiment/R/library’
* installing *source* package ‘ccdata’ ...
** using staged installation
** R
** data
** byte-compile and prepare package for lazy loading
** help
*** installing help indices
** building package indices
** testing if installed package can be loaded from temporary location
** testing if installed package can be loaded from final location
** testing if installed package keeps a record of temporary installation path
* DONE (ccdata)