Back to Build/check report for BioC 3.15 experimental data
AB[C]DEFGHIJKLMNOPQRSTUVWXYZ

This page was generated on 2021-11-28 18:35:03 -0500 (Sun, 28 Nov 2021).

BUILD results for ccdata on nebbiolo2

To the developers/maintainers of the ccdata package:
Make sure to use the following settings in order to reproduce any error or warning you see on this page.

raw results

Package 46/404HostnameOS / ArchINSTALLBUILDCHECK
ccdata 1.21.0  (landing page)
Alex Pickering
Snapshot Date: 2021-11-28 08:30:02 -0500 (Sun, 28 Nov 2021)
git_url: https://git.bioconductor.org/packages/ccdata
git_branch: master
git_last_commit: 8558ac1
git_last_commit_date: 2021-10-26 12:26:53 -0500 (Tue, 26 Oct 2021)
nebbiolo2Linux (Ubuntu 20.04.3 LTS) / x86_64  OK    OK    WARNINGS  UNNEEDED, same version is already published

Summary

Package: ccdata
Version: 1.21.0
Command: /home/biocbuild/bbs-3.15-data-experiment/R/bin/R CMD build --keep-empty-dirs --no-resave-data ccdata
StartedAt: 2021-11-28 14:11:28 -0500 (Sun, 28 Nov 2021)
EndedAt: 2021-11-28 14:12:17 -0500 (Sun, 28 Nov 2021)
EllapsedTime: 49.1 seconds
RetCode: 0
Status:   OK  
PackageFile: ccdata_1.21.0.tar.gz
PackageFileSize: 893.9 MiB

Command output

##############################################################################
##############################################################################
###
### Running command:
###
###   /home/biocbuild/bbs-3.15-data-experiment/R/bin/R CMD build --keep-empty-dirs --no-resave-data ccdata
###
##############################################################################
##############################################################################


* checking for file ‘ccdata/DESCRIPTION’ ... OK
* preparing ‘ccdata’:
* checking DESCRIPTION meta-information ... OK
* checking for LF line-endings in source and make files and shell scripts
* checking for empty or unneeded directories
* looking to see if a ‘data/datalist’ file should be added
* building ‘ccdata_1.21.0.tar.gz’