Back to Build/check report for BioC 3.15 experimental data
AB[C]DEFGHIJKLMNOPQRSTUVWXYZ

This page was generated on 2021-11-28 18:35:03 -0500 (Sun, 28 Nov 2021).

BUILD results for cancerdata on nebbiolo2

To the developers/maintainers of the cancerdata package:
Make sure to use the following settings in order to reproduce any error or warning you see on this page.

raw results

Package 44/404HostnameOS / ArchINSTALLBUILDCHECK
cancerdata 1.33.0  (landing page)
Daniel Kosztyla
Snapshot Date: 2021-11-28 08:30:02 -0500 (Sun, 28 Nov 2021)
git_url: https://git.bioconductor.org/packages/cancerdata
git_branch: master
git_last_commit: eadb05c
git_last_commit_date: 2021-10-26 11:48:27 -0500 (Tue, 26 Oct 2021)
nebbiolo2Linux (Ubuntu 20.04.3 LTS) / x86_64  OK    OK    OK  UNNEEDED, same version is already published

Summary

Package: cancerdata
Version: 1.33.0
Command: /home/biocbuild/bbs-3.15-data-experiment/R/bin/R CMD build --keep-empty-dirs --no-resave-data cancerdata
StartedAt: 2021-11-28 14:11:27 -0500 (Sun, 28 Nov 2021)
EndedAt: 2021-11-28 14:11:29 -0500 (Sun, 28 Nov 2021)
EllapsedTime: 1.8 seconds
RetCode: 0
Status:   OK  
PackageFile: cancerdata_1.33.0.tar.gz
PackageFileSize: 26.69 MiB

Command output

##############################################################################
##############################################################################
###
### Running command:
###
###   /home/biocbuild/bbs-3.15-data-experiment/R/bin/R CMD build --keep-empty-dirs --no-resave-data cancerdata
###
##############################################################################
##############################################################################


* checking for file ‘cancerdata/DESCRIPTION’ ... OK
* preparing ‘cancerdata’:
* checking DESCRIPTION meta-information ... OK
* checking for LF line-endings in source and make files and shell scripts
* checking for empty or unneeded directories
* looking to see if a ‘data/datalist’ file should be added
* building ‘cancerdata_1.33.0.tar.gz’