Index of /checkResults/devel/data-experiment-LATEST/breastCancerUPP/raw-results/nebbiolo2

[ICO]NameLast modifiedSizeDescription

[DIR]Parent Directory  -  
[TXT]buildsrc-out.txt25-Jan-2022 22:37 947  
[   ]buildsrc-summary.dcf25-Jan-2022 22:37 451  
[TXT]checksrc-out.txt25-Jan-2022 22:37 2.9K 
[   ]checksrc-summary.dcf25-Jan-2022 22:37 484  
[TXT]install-out.txt25-Jan-2022 22:37 911  
[   ]install-summary.dcf25-Jan-2022 22:37 285