Index of /checkResults/devel/data-experiment-LATEST/breastCancerUPP/raw-results

[ICO]NameLast modifiedSizeDescription

[DIR]Parent Directory  -  
[DIR]nebbiolo1/24-Mar-2023 03:51 -  
[   ]info.dcf24-Mar-2023 03:51 341