Back to Build/check report for BioC 3.14 experimental data
A[B]CDEFGHIJKLMNOPQRSTUVWXYZ

This page was generated on 2021-08-03 15:50:47 -0400 (Tue, 03 Aug 2021).

All results for package breastCancerNKI

To the developers/maintainers of the breastCancerNKI package:
Make sure to use the following settings in order to reproduce any error or warning you see on this page.

raw results

Package 38/397HostnameOS / ArchINSTALLBUILDCHECK
breastCancerNKI 1.31.0  (landing page)
Markus Schroeder , Benjamin Haibe-Kains
Snapshot Date: 2021-08-03 09:30:02 -0400 (Tue, 03 Aug 2021)
URL: https://git.bioconductor.org/packages/breastCancerNKI
Branch: master
Last Commit: 7228bc4
Last Changed Date: 2021-05-19 11:31:29 -0400 (Wed, 19 May 2021)
nebbiolo2Linux (Ubuntu 20.04.2 LTS) / x86_64  OK    OK    WARNINGS  UNNEEDED, same version is already published