Back to Build/check report for BioC 3.14 experimental data
A[B]CDEFGHIJKLMNOPQRSTUVWXYZ

This page was generated on 2021-10-19 15:52:17 -0400 (Tue, 19 Oct 2021).

BUILD results for breastCancerMAINZ on nebbiolo2

To the developers/maintainers of the breastCancerMAINZ package:
Make sure to use the following settings in order to reproduce any error or warning you see on this page.

raw results

Package 37/404HostnameOS / ArchINSTALLBUILDCHECK
breastCancerMAINZ 1.31.0  (landing page)
Markus Schroeder , Benjamin Haibe-Kains
Snapshot Date: 2021-10-19 09:30:02 -0400 (Tue, 19 Oct 2021)
git_url: https://git.bioconductor.org/packages/breastCancerMAINZ
git_branch: master
git_last_commit: 04f50be
git_last_commit_date: 2021-05-19 11:31:26 -0400 (Wed, 19 May 2021)
nebbiolo2Linux (Ubuntu 20.04.2 LTS) / x86_64  OK    OK    WARNINGS  UNNEEDED, same version is already published

Summary

Package: breastCancerMAINZ
Version: 1.31.0
Command: /home/biocbuild/bbs-3.14-bioc/R/bin/R CMD build --keep-empty-dirs --no-resave-data breastCancerMAINZ
StartedAt: 2021-10-19 11:11:01 -0400 (Tue, 19 Oct 2021)
EndedAt: 2021-10-19 11:11:04 -0400 (Tue, 19 Oct 2021)
EllapsedTime: 2.9 seconds
RetCode: 0
Status:   OK  
PackageFile: breastCancerMAINZ_1.31.0.tar.gz
PackageFileSize: 34.8 MiB

Command output

##############################################################################
##############################################################################
###
### Running command:
###
###   /home/biocbuild/bbs-3.14-bioc/R/bin/R CMD build --keep-empty-dirs --no-resave-data breastCancerMAINZ
###
##############################################################################
##############################################################################


* checking for file ‘breastCancerMAINZ/DESCRIPTION’ ... OK
* preparing ‘breastCancerMAINZ’:
* checking DESCRIPTION meta-information ... OK
* checking whether ‘INDEX’ is up-to-date ... NO
* use ‘--force’ to remove the existing ‘INDEX’
* checking for LF line-endings in source and make files and shell scripts
* checking for empty or unneeded directories
* looking to see if a ‘data/datalist’ file should be added
* building ‘breastCancerMAINZ_1.31.0.tar.gz’