Back to Build/check report for BioC 3.14 experimental data
A[B]CDEFGHIJKLMNOPQRSTUVWXYZ

This page was generated on 2021-10-21 15:52:03 -0400 (Thu, 21 Oct 2021).

INSTALL results for bodymapRat on nebbiolo2

To the developers/maintainers of the bodymapRat package:
Make sure to use the following settings in order to reproduce any error or warning you see on this page.

raw results

Package 34/406HostnameOS / ArchINSTALLBUILDCHECK
bodymapRat 1.9.1  (landing page)
Stephanie Hicks
Snapshot Date: 2021-10-21 09:30:01 -0400 (Thu, 21 Oct 2021)
git_url: https://git.bioconductor.org/packages/bodymapRat
git_branch: master
git_last_commit: 4e3e1ac
git_last_commit_date: 2021-06-18 13:26:51 -0400 (Fri, 18 Jun 2021)
nebbiolo2Linux (Ubuntu 20.04.2 LTS) / x86_64  OK    OK    OK  UNNEEDED, same version is already published

Summary

Package: bodymapRat
Version: 1.9.1
Command: /home/biocbuild/bbs-3.14-bioc/R/bin/R CMD INSTALL bodymapRat
StartedAt: 2021-10-21 11:04:20 -0400 (Thu, 21 Oct 2021)
EndedAt: 2021-10-21 11:04:44 -0400 (Thu, 21 Oct 2021)
EllapsedTime: 23.9 seconds
RetCode: 0
Status:   OK  

Command output

##############################################################################
##############################################################################
###
### Running command:
###
###   /home/biocbuild/bbs-3.14-bioc/R/bin/R CMD INSTALL bodymapRat
###
##############################################################################
##############################################################################


* installing to library ‘/home/biocbuild/bbs-3.14-bioc/R/library’
* installing *source* package ‘bodymapRat’ ...
** using staged installation
** R
** inst
** byte-compile and prepare package for lazy loading
** help
*** installing help indices
** building package indices
** installing vignettes
** testing if installed package can be loaded from temporary location
snapshotDate(): 2021-10-18
** testing if installed package can be loaded from final location
snapshotDate(): 2021-10-18
** testing if installed package keeps a record of temporary installation path
* DONE (bodymapRat)