Back to Build/check report for BioC 3.15 experimental data
A[B]CDEFGHIJKLMNOPQRSTUVWXYZ

This page was generated on 2021-11-28 18:35:03 -0500 (Sun, 28 Nov 2021).

BUILD results for bodymapRat on nebbiolo2

To the developers/maintainers of the bodymapRat package:
Make sure to use the following settings in order to reproduce any error or warning you see on this page.

raw results

Package 33/404HostnameOS / ArchINSTALLBUILDCHECK
bodymapRat 1.11.0  (landing page)
Stephanie Hicks
Snapshot Date: 2021-11-28 08:30:02 -0500 (Sun, 28 Nov 2021)
git_url: https://git.bioconductor.org/packages/bodymapRat
git_branch: master
git_last_commit: 633baa6
git_last_commit_date: 2021-10-26 12:35:45 -0500 (Tue, 26 Oct 2021)
nebbiolo2Linux (Ubuntu 20.04.3 LTS) / x86_64  OK    OK    OK  UNNEEDED, same version is already published

Summary

Package: bodymapRat
Version: 1.11.0
Command: /home/biocbuild/bbs-3.15-data-experiment/R/bin/R CMD build --keep-empty-dirs --no-resave-data bodymapRat
StartedAt: 2021-11-28 14:10:59 -0500 (Sun, 28 Nov 2021)
EndedAt: 2021-11-28 14:11:36 -0500 (Sun, 28 Nov 2021)
EllapsedTime: 37.0 seconds
RetCode: 0
Status:   OK  
PackageFile: bodymapRat_1.11.0.tar.gz
PackageFileSize: 284.4 KiB

Command output

##############################################################################
##############################################################################
###
### Running command:
###
###   /home/biocbuild/bbs-3.15-data-experiment/R/bin/R CMD build --keep-empty-dirs --no-resave-data bodymapRat
###
##############################################################################
##############################################################################


* checking for file ‘bodymapRat/DESCRIPTION’ ... OK
* preparing ‘bodymapRat’:
* checking DESCRIPTION meta-information ... OK
* installing the package to build vignettes
* creating vignettes ... OK
* checking for LF line-endings in source and make files and shell scripts
* checking for empty or unneeded directories
* building ‘bodymapRat_1.11.0.tar.gz’