Back to Build/check report for BioC 3.15 experimental data
A[B]CDEFGHIJKLMNOPQRSTUVWXYZ

This page was generated on 2021-12-05 17:50:12 -0500 (Sun, 05 Dec 2021).

BUILD results for blimaTestingData on nebbiolo2

To the developers/maintainers of the blimaTestingData package:
Make sure to use the following settings in order to reproduce any error or warning you see on this page.

raw results

Package 31/404HostnameOS / ArchINSTALLBUILDCHECK
blimaTestingData 1.15.0  (landing page)
Vojtech Kulvait
Snapshot Date: 2021-12-05 07:30:02 -0500 (Sun, 05 Dec 2021)
git_url: https://git.bioconductor.org/packages/blimaTestingData
git_branch: master
git_last_commit: 416ea7b
git_last_commit_date: 2021-10-26 12:09:17 -0500 (Tue, 26 Oct 2021)
nebbiolo2Linux (Ubuntu 20.04.3 LTS) / x86_64  OK    OK    OK  UNNEEDED, same version is already published

Summary

Package: blimaTestingData
Version: 1.15.0
Command: /home/biocbuild/bbs-3.15-data-experiment/R/bin/R CMD build --keep-empty-dirs --no-resave-data blimaTestingData
StartedAt: 2021-12-05 13:10:37 -0500 (Sun, 05 Dec 2021)
EndedAt: 2021-12-05 13:11:10 -0500 (Sun, 05 Dec 2021)
EllapsedTime: 33.9 seconds
RetCode: 0
Status:   OK  
PackageFile: blimaTestingData_1.15.0.tar.gz
PackageFileSize: 98.27 MiB

Command output

##############################################################################
##############################################################################
###
### Running command:
###
###   /home/biocbuild/bbs-3.15-data-experiment/R/bin/R CMD build --keep-empty-dirs --no-resave-data blimaTestingData
###
##############################################################################
##############################################################################


* checking for file ‘blimaTestingData/DESCRIPTION’ ... OK
* preparing ‘blimaTestingData’:
* checking DESCRIPTION meta-information ... OK
* installing the package to build vignettes
* creating vignettes ... OK
* checking for LF line-endings in source and make files and shell scripts
* checking for empty or unneeded directories
* looking to see if a ‘data/datalist’ file should be added
* building ‘blimaTestingData_1.15.0.tar.gz’