Back to Build/check report for BioC 3.14 experimental data
A[B]CDEFGHIJKLMNOPQRSTUVWXYZ

This page was generated on 2021-10-21 15:52:03 -0400 (Thu, 21 Oct 2021).

BUILD results for bladderbatch on nebbiolo2

To the developers/maintainers of the bladderbatch package:
Make sure to use the following settings in order to reproduce any error or warning you see on this page.

raw results

Package 31/406HostnameOS / ArchINSTALLBUILDCHECK
bladderbatch 1.31.0  (landing page)
Jeffrey T. Leek
Snapshot Date: 2021-10-21 09:30:01 -0400 (Thu, 21 Oct 2021)
git_url: https://git.bioconductor.org/packages/bladderbatch
git_branch: master
git_last_commit: 554ad32
git_last_commit_date: 2021-05-19 11:32:37 -0400 (Wed, 19 May 2021)
nebbiolo2Linux (Ubuntu 20.04.2 LTS) / x86_64  OK    OK    WARNINGS  UNNEEDED, same version is already published

Summary

Package: bladderbatch
Version: 1.31.0
Command: /home/biocbuild/bbs-3.14-bioc/R/bin/R CMD build --keep-empty-dirs --no-resave-data bladderbatch
StartedAt: 2021-10-21 11:10:38 -0400 (Thu, 21 Oct 2021)
EndedAt: 2021-10-21 11:10:42 -0400 (Thu, 21 Oct 2021)
EllapsedTime: 4.3 seconds
RetCode: 0
Status:   OK  
PackageFile: bladderbatch_1.31.0.tar.gz
PackageFileSize: 9.208 MiB

Command output

##############################################################################
##############################################################################
###
### Running command:
###
###   /home/biocbuild/bbs-3.14-bioc/R/bin/R CMD build --keep-empty-dirs --no-resave-data bladderbatch
###
##############################################################################
##############################################################################


* checking for file ‘bladderbatch/DESCRIPTION’ ... OK
* preparing ‘bladderbatch’:
* checking DESCRIPTION meta-information ... OK
* checking whether ‘INDEX’ is up-to-date ... NO
* use ‘--force’ to remove the existing ‘INDEX’
* installing the package to build vignettes
* creating vignettes ... OK
* checking for LF line-endings in source and make files and shell scripts
* checking for empty or unneeded directories
* looking to see if a ‘data/datalist’ file should be added
* building ‘bladderbatch_1.31.0.tar.gz’