Back to Build/check report for BioC 3.14 experimental data
A[B]CDEFGHIJKLMNOPQRSTUVWXYZ

This page was generated on 2021-10-23 15:51:46 -0400 (Sat, 23 Oct 2021).

BUILD results for biotmleData on nebbiolo2

To the developers/maintainers of the biotmleData package:
Make sure to use the following settings in order to reproduce any error or warning you see on this page.

raw results

Package 29/408HostnameOS / ArchINSTALLBUILDCHECK
biotmleData 1.17.0  (landing page)
Nima Hejazi
Snapshot Date: 2021-10-23 09:30:01 -0400 (Sat, 23 Oct 2021)
git_url: https://git.bioconductor.org/packages/biotmleData
git_branch: master
git_last_commit: d8b293f
git_last_commit_date: 2021-05-19 12:00:53 -0400 (Wed, 19 May 2021)
nebbiolo2Linux (Ubuntu 20.04.2 LTS) / x86_64  OK    OK    WARNINGS  UNNEEDED, same version is already published

Summary

Package: biotmleData
Version: 1.17.0
Command: /home/biocbuild/bbs-3.14-bioc/R/bin/R CMD build --keep-empty-dirs --no-resave-data biotmleData
StartedAt: 2021-10-23 11:10:44 -0400 (Sat, 23 Oct 2021)
EndedAt: 2021-10-23 11:10:46 -0400 (Sat, 23 Oct 2021)
EllapsedTime: 2.2 seconds
RetCode: 0
Status:   OK  
PackageFile: biotmleData_1.17.0.tar.gz
PackageFileSize: 30.87 MiB

Command output

##############################################################################
##############################################################################
###
### Running command:
###
###   /home/biocbuild/bbs-3.14-bioc/R/bin/R CMD build --keep-empty-dirs --no-resave-data biotmleData
###
##############################################################################
##############################################################################


* checking for file ‘biotmleData/DESCRIPTION’ ... OK
* preparing ‘biotmleData’:
* checking DESCRIPTION meta-information ... OK
* checking for LF line-endings in source and make files and shell scripts
* checking for empty or unneeded directories
* building ‘biotmleData_1.17.0.tar.gz’