Back to Build/check report for BioC 3.15 experimental data
A[B]CDEFGHIJKLMNOPQRSTUVWXYZ

This page was generated on 2021-10-26 15:49:12 -0400 (Tue, 26 Oct 2021).

All results for package biotmleData

To the developers/maintainers of the biotmleData package:
Make sure to use the following settings in order to reproduce any error or warning you see on this page.

raw results

Package 28/403HostnameOS / ArchINSTALLBUILDCHECK
biotmleData 1.17.0  (landing page)
Nima Hejazi
Snapshot Date: 2021-10-26 09:30:01 -0400 (Tue, 26 Oct 2021)
git_url: https://git.bioconductor.org/packages/biotmleData
git_branch: master
git_last_commit: d8b293f
git_last_commit_date: 2021-05-19 12:00:53 -0400 (Wed, 19 May 2021)
nebbiolo1Linux (Ubuntu 20.04.2 LTS) / x86_64  OK    OK    WARNINGS  YES