Back to Build/check report for BioC 3.14 experimental data
A[B]CDEFGHIJKLMNOPQRSTUVWXYZ

This page was generated on 2021-10-23 15:51:46 -0400 (Sat, 23 Oct 2021).

BUILD results for beta7 on nebbiolo2

To the developers/maintainers of the beta7 package:
Make sure to use the following settings in order to reproduce any error or warning you see on this page.

raw results

Package 27/408HostnameOS / ArchINSTALLBUILDCHECK
beta7 1.31.0  (landing page)
Jean Yang
Snapshot Date: 2021-10-23 09:30:01 -0400 (Sat, 23 Oct 2021)
git_url: https://git.bioconductor.org/packages/beta7
git_branch: master
git_last_commit: 1d3e2b2
git_last_commit_date: 2021-05-19 11:23:20 -0400 (Wed, 19 May 2021)
nebbiolo2Linux (Ubuntu 20.04.2 LTS) / x86_64  OK    OK    WARNINGS  UNNEEDED, same version is already published

Summary

Package: beta7
Version: 1.31.0
Command: /home/biocbuild/bbs-3.14-bioc/R/bin/R CMD build --keep-empty-dirs --no-resave-data beta7
StartedAt: 2021-10-23 11:10:39 -0400 (Sat, 23 Oct 2021)
EndedAt: 2021-10-23 11:10:46 -0400 (Sat, 23 Oct 2021)
EllapsedTime: 7.1 seconds
RetCode: 0
Status:   OK  
PackageFile: beta7_1.31.0.tar.gz
PackageFileSize: 15.18 MiB

Command output

##############################################################################
##############################################################################
###
### Running command:
###
###   /home/biocbuild/bbs-3.14-bioc/R/bin/R CMD build --keep-empty-dirs --no-resave-data beta7
###
##############################################################################
##############################################################################


* checking for file ‘beta7/DESCRIPTION’ ... OK
* preparing ‘beta7’:
* checking DESCRIPTION meta-information ... OK
* checking for LF line-endings in source and make files and shell scripts
* checking for empty or unneeded directories
* looking to see if a ‘data/datalist’ file should be added
* building ‘beta7_1.31.0.tar.gz’