Index of /checkResults/devel/data-experiment-LATEST/benchmarkfdrData2019/raw-results/nebbiolo2

[ICO]NameLast modifiedSizeDescription

[DIR]Parent Directory  -  
[TXT]buildsrc-out.txt20-Jan-2022 22:37 1.7K 
[   ]buildsrc-summary.dcf20-Jan-2022 22:37 465  
[TXT]checksrc-out.txt20-Jan-2022 22:37 3.9K 
[   ]checksrc-summary.dcf20-Jan-2022 22:37 496  
[TXT]install-out.txt20-Jan-2022 22:37 1.0K 
[   ]install-summary.dcf20-Jan-2022 22:37 295