Back to Build/check report for BioC 3.15 experimental data
A[B]CDEFGHIJKLMNOPQRSTUVWXYZ

This page was generated on 2021-12-05 17:50:12 -0500 (Sun, 05 Dec 2021).

BUILD results for benchmarkfdrData2019 on nebbiolo2

To the developers/maintainers of the benchmarkfdrData2019 package:
Make sure to use the following settings in order to reproduce any error or warning you see on this page.

raw results

Package 25/404HostnameOS / ArchINSTALLBUILDCHECK
benchmarkfdrData2019 1.9.0  (landing page)
Stephanie Hicks
Snapshot Date: 2021-12-05 07:30:02 -0500 (Sun, 05 Dec 2021)
git_url: https://git.bioconductor.org/packages/benchmarkfdrData2019
git_branch: master
git_last_commit: 013cf73
git_last_commit_date: 2021-10-26 12:36:16 -0500 (Tue, 26 Oct 2021)
nebbiolo2Linux (Ubuntu 20.04.3 LTS) / x86_64  OK    OK    OK  UNNEEDED, same version is already published

Summary

Package: benchmarkfdrData2019
Version: 1.9.0
Command: /home/biocbuild/bbs-3.15-data-experiment/R/bin/R CMD build --keep-empty-dirs --no-resave-data benchmarkfdrData2019
StartedAt: 2021-12-05 13:10:28 -0500 (Sun, 05 Dec 2021)
EndedAt: 2021-12-05 13:11:35 -0500 (Sun, 05 Dec 2021)
EllapsedTime: 67.9 seconds
RetCode: 0
Status:   OK  
PackageFile: benchmarkfdrData2019_1.9.0.tar.gz
PackageFileSize: 776.6 KiB

Command output

##############################################################################
##############################################################################
###
### Running command:
###
###   /home/biocbuild/bbs-3.15-data-experiment/R/bin/R CMD build --keep-empty-dirs --no-resave-data benchmarkfdrData2019
###
##############################################################################
##############################################################################


* checking for file ‘benchmarkfdrData2019/DESCRIPTION’ ... OK
* preparing ‘benchmarkfdrData2019’:
* checking DESCRIPTION meta-information ... OK
* installing the package to build vignettes
* creating vignettes ... OK
* checking for LF line-endings in source and make files and shell scripts
* checking for empty or unneeded directories
Omitted ‘LazyData’ from DESCRIPTION
* building ‘benchmarkfdrData2019_1.9.0.tar.gz’
Warning in utils::tar(filepath, pkgname, compression = compression, compression_level = 9L,  :
  storing paths of more than 100 bytes is not portable:
  ‘benchmarkfdrData2019/inst/scripts/make-data/Simulations/simulations-varyinginformativeness-discrete.Rmd’
Warning in utils::tar(filepath, pkgname, compression = compression, compression_level = 9L,  :
  storing paths of more than 100 bytes is not portable:
  ‘benchmarkfdrData2019/inst/scripts/make-data/Simulations/simulations-varyinginformativeness-smooth.Rmd’
Warning in utils::tar(filepath, pkgname, compression = compression, compression_level = 9L,  :
  storing paths of more than 100 bytes is not portable:
  ‘benchmarkfdrData2019/inst/scripts/make-data/YeastInSilico/yeast-simulation-bimodalalternative-highpi0.Rmd’