Back to Build/check report for BioC 3.20 experimental data
A[B]CDEFGHIJKLMNOPQRSTUVWXYZ

This page was generated on 2024-07-16 14:51 -0400 (Tue, 16 Jul 2024).

HostnameOSArch (*)R versionInstalled pkgs
nebbiolo2Linux (Ubuntu 22.04.3 LTS)x86_644.4.1 (2024-06-14) -- "Race for Your Life" 4677
Click on any hostname to see more info about the system (e.g. compilers)      (*) as reported by 'uname -p', except on Windows and Mac OS X

All results for package benchmarkfdrData2019


To the developers/maintainers of the benchmarkfdrData2019 package:
- Use the following Renviron settings to reproduce errors and warnings.
- If 'R CMD check' started to fail recently on the Linux builder(s) over a missing dependency, add the missing dependency to 'Suggests:' in your DESCRIPTION file. See Renviron.bioc for more information.

raw results

Package 24/425HostnameOS / ArchINSTALLBUILDCHECK
benchmarkfdrData2019 1.19.0  (landing page)
Stephanie Hicks
Snapshot Date: 2024-07-16 07:30 -0400 (Tue, 16 Jul 2024)
git_url: https://git.bioconductor.org/packages/benchmarkfdrData2019
git_branch: devel
git_last_commit: 23fee96
git_last_commit_date: 2024-04-30 10:51:44 -0400 (Tue, 30 Apr 2024)
nebbiolo2Linux (Ubuntu 22.04.3 LTS) / x86_64  OK    OK    OK  UNNEEDED, same version is already published