Back to Build/check report for BioC 3.15 experimental data
A[B]CDEFGHIJKLMNOPQRSTUVWXYZ

This page was generated on 2021-12-05 17:50:12 -0500 (Sun, 05 Dec 2021).

All results for package bcellViper

To the developers/maintainers of the bcellViper package:
Make sure to use the following settings in order to reproduce any error or warning you see on this page.

raw results

Package 21/404HostnameOS / ArchINSTALLBUILDCHECK
bcellViper 1.31.0  (landing page)
Mariano Javier Alvarez
Snapshot Date: 2021-12-05 07:30:02 -0500 (Sun, 05 Dec 2021)
git_url: https://git.bioconductor.org/packages/bcellViper
git_branch: master
git_last_commit: abdb3eb
git_last_commit_date: 2021-10-26 12:08:40 -0500 (Tue, 26 Oct 2021)
nebbiolo2Linux (Ubuntu 20.04.3 LTS) / x86_64  OK    OK    OK  UNNEEDED, same version is already published