Back to Build/check report for BioC 3.14 experimental data
[A]BCDEFGHIJKLMNOPQRSTUVWXYZ

This page was generated on 2021-10-19 15:52:17 -0400 (Tue, 19 Oct 2021).

BUILD results for aracne.networks on nebbiolo2

To the developers/maintainers of the aracne.networks package:
Make sure to use the following settings in order to reproduce any error or warning you see on this page.

raw results

Package 17/404HostnameOS / ArchINSTALLBUILDCHECK
aracne.networks 1.19.0  (landing page)
Federico M. Giorgi , Mariano Alvarez
Snapshot Date: 2021-10-19 09:30:02 -0400 (Tue, 19 Oct 2021)
git_url: https://git.bioconductor.org/packages/aracne.networks
git_branch: master
git_last_commit: 3349cd6
git_last_commit_date: 2021-05-19 11:59:00 -0400 (Wed, 19 May 2021)
nebbiolo2Linux (Ubuntu 20.04.2 LTS) / x86_64  OK    OK    WARNINGS  UNNEEDED, same version is already published

Summary

Package: aracne.networks
Version: 1.19.0
Command: /home/biocbuild/bbs-3.14-bioc/R/bin/R CMD build --keep-empty-dirs --no-resave-data aracne.networks
StartedAt: 2021-10-19 11:10:14 -0400 (Tue, 19 Oct 2021)
EndedAt: 2021-10-19 11:11:05 -0400 (Tue, 19 Oct 2021)
EllapsedTime: 50.9 seconds
RetCode: 0
Status:   OK  
PackageFile: aracne.networks_1.19.0.tar.gz
PackageFileSize: 203.2 MiB

Command output

##############################################################################
##############################################################################
###
### Running command:
###
###   /home/biocbuild/bbs-3.14-bioc/R/bin/R CMD build --keep-empty-dirs --no-resave-data aracne.networks
###
##############################################################################
##############################################################################


* checking for file ‘aracne.networks/DESCRIPTION’ ... OK
* preparing ‘aracne.networks’:
* checking DESCRIPTION meta-information ... OK
* installing the package to build vignettes
* creating vignettes ... OK
* checking for LF line-endings in source and make files and shell scripts
* checking for empty or unneeded directories
* building ‘aracne.networks_1.19.0.tar.gz’