Back to Build/check report for BioC 3.15 experimental data
[A]BCDEFGHIJKLMNOPQRSTUVWXYZ

This page was generated on 2021-10-26 15:49:12 -0400 (Tue, 26 Oct 2021).

All results for package airway

To the developers/maintainers of the airway package:
Make sure to use the following settings in order to reproduce any error or warning you see on this page.

raw results

Package 9/403HostnameOS / ArchINSTALLBUILDCHECK
airway 1.13.0  (landing page)
Michael Love
Snapshot Date: 2021-10-26 09:30:01 -0400 (Tue, 26 Oct 2021)
git_url: https://git.bioconductor.org/packages/airway
git_branch: master
git_last_commit: b1e95af
git_last_commit_date: 2021-05-19 11:47:54 -0400 (Wed, 19 May 2021)
nebbiolo1Linux (Ubuntu 20.04.2 LTS) / x86_64  OK    OK    WARNINGS  NO, package depends on 'SummarizedExperiment' which is not available