Back to Build/check report for BioC 3.15 experimental data
[A]BCDEFGHIJKLMNOPQRSTUVWXYZ

This page was generated on 2021-10-26 15:49:12 -0400 (Tue, 26 Oct 2021).

All results for package affydata

To the developers/maintainers of the affydata package:
Make sure to use the following settings in order to reproduce any error or warning you see on this page.

raw results

Package 3/403HostnameOS / ArchINSTALLBUILDCHECK
affydata 1.41.0  (landing page)
Harris Jaffee
Snapshot Date: 2021-10-26 09:30:01 -0400 (Tue, 26 Oct 2021)
git_url: https://git.bioconductor.org/packages/affydata
git_branch: master
git_last_commit: 6546cc6
git_last_commit_date: 2021-05-19 11:22:51 -0400 (Wed, 19 May 2021)
nebbiolo1Linux (Ubuntu 20.04.2 LTS) / x86_64  OK    OK    WARNINGS  NO, package depends on 'affy' which is not available