Back to Build/check report for BioC 3.14 experimental data
ABCDEFGHIJKLMNOPQRSTUVW[X]YZ

This page was generated on 2021-10-23 15:51:47 -0400 (Sat, 23 Oct 2021).

BUILD results for XhybCasneuf on nebbiolo2

To the developers/maintainers of the XhybCasneuf package:
Make sure to use the following settings in order to reproduce any error or warning you see on this page.

raw results

Package 402/408HostnameOS / ArchINSTALLBUILDCHECK
XhybCasneuf 1.31.0  (landing page)
Tineke Casneuf
Snapshot Date: 2021-10-23 09:30:01 -0400 (Sat, 23 Oct 2021)
git_url: https://git.bioconductor.org/packages/XhybCasneuf
git_branch: master
git_last_commit: 2be093f
git_last_commit_date: 2021-05-19 11:27:17 -0400 (Wed, 19 May 2021)
nebbiolo2Linux (Ubuntu 20.04.2 LTS) / x86_64  OK    OK    WARNINGS  UNNEEDED, same version is already published

Summary

Package: XhybCasneuf
Version: 1.31.0
Command: /home/biocbuild/bbs-3.14-bioc/R/bin/R CMD build --keep-empty-dirs --no-resave-data XhybCasneuf
StartedAt: 2021-10-23 11:40:18 -0400 (Sat, 23 Oct 2021)
EndedAt: 2021-10-23 11:40:34 -0400 (Sat, 23 Oct 2021)
EllapsedTime: 15.9 seconds
RetCode: 0
Status:   OK  
PackageFile: XhybCasneuf_1.31.0.tar.gz
PackageFileSize: 3.281 MiB

Command output

##############################################################################
##############################################################################
###
### Running command:
###
###   /home/biocbuild/bbs-3.14-bioc/R/bin/R CMD build --keep-empty-dirs --no-resave-data XhybCasneuf
###
##############################################################################
##############################################################################


* checking for file ‘XhybCasneuf/DESCRIPTION’ ... OK
* preparing ‘XhybCasneuf’:
* checking DESCRIPTION meta-information ... OK
* checking whether ‘INDEX’ is up-to-date ... NO
* use ‘--force’ to remove the existing ‘INDEX’
* installing the package to build vignettes
* creating vignettes ... OK
* checking for LF line-endings in source and make files and shell scripts
* checking for empty or unneeded directories
* looking to see if a ‘data/datalist’ file should be added
* building ‘XhybCasneuf_1.31.0.tar.gz’