Back to Build/check report for BioC 3.14 experimental data
ABCDEFGHIJKLMNOPQRSTUV[W]XYZ

This page was generated on 2021-10-16 15:51:46 -0400 (Sat, 16 Oct 2021).

BUILD results for WES.1KG.WUGSC on nebbiolo2

To the developers/maintainers of the WES.1KG.WUGSC package:
Make sure to use the following settings in order to reproduce any error or warning you see on this page.

raw results

Package 396/404HostnameOS / ArchINSTALLBUILDCHECK
WES.1KG.WUGSC 1.25.0  (landing page)
Yuchao Jiang
Snapshot Date: 2021-10-16 09:30:02 -0400 (Sat, 16 Oct 2021)
git_url: https://git.bioconductor.org/packages/WES.1KG.WUGSC
git_branch: master
git_last_commit: c6f4246
git_last_commit_date: 2021-05-19 11:49:17 -0400 (Wed, 19 May 2021)
nebbiolo2Linux (Ubuntu 20.04.2 LTS) / x86_64  OK    OK    OK  UNNEEDED, same version is already published

Summary

Package: WES.1KG.WUGSC
Version: 1.25.0
Command: /home/biocbuild/bbs-3.14-bioc/R/bin/R CMD build --keep-empty-dirs --no-resave-data WES.1KG.WUGSC
StartedAt: 2021-10-16 11:37:57 -0400 (Sat, 16 Oct 2021)
EndedAt: 2021-10-16 11:38:22 -0400 (Sat, 16 Oct 2021)
EllapsedTime: 24.1 seconds
RetCode: 0
Status:   OK  
PackageFile: WES.1KG.WUGSC_1.25.0.tar.gz
PackageFileSize: 373.2 MiB

Command output

##############################################################################
##############################################################################
###
### Running command:
###
###   /home/biocbuild/bbs-3.14-bioc/R/bin/R CMD build --keep-empty-dirs --no-resave-data WES.1KG.WUGSC
###
##############################################################################
##############################################################################


* checking for file ‘WES.1KG.WUGSC/DESCRIPTION’ ... OK
* preparing ‘WES.1KG.WUGSC’:
* checking DESCRIPTION meta-information ... OK
* installing the package to build vignettes
* creating vignettes ... OK
* checking for LF line-endings in source and make files and shell scripts
* checking for empty or unneeded directories
* building ‘WES.1KG.WUGSC_1.25.0.tar.gz’