Back to Build/check report for BioC 3.15 experimental data
ABCDEFGHIJKLMNOPQRSTUV[W]XYZ

This page was generated on 2021-12-05 17:50:12 -0500 (Sun, 05 Dec 2021).

All results for package WES.1KG.WUGSC

To the developers/maintainers of the WES.1KG.WUGSC package:
Make sure to use the following settings in order to reproduce any error or warning you see on this page.

raw results

Package 396/404HostnameOS / ArchINSTALLBUILDCHECK
WES.1KG.WUGSC 1.27.0  (landing page)
Yuchao Jiang
Snapshot Date: 2021-12-05 07:30:02 -0500 (Sun, 05 Dec 2021)
git_url: https://git.bioconductor.org/packages/WES.1KG.WUGSC
git_branch: master
git_last_commit: 96a9124
git_last_commit_date: 2021-10-26 12:11:57 -0500 (Tue, 26 Oct 2021)
nebbiolo2Linux (Ubuntu 20.04.3 LTS) / x86_64  OK    OK    OK  UNNEEDED, same version is already published