Back to Build/check report for BioC 3.14 experimental data
ABCDEFGHIJKLMNOPQRS[T]UVWXYZ

This page was generated on 2021-10-16 15:51:45 -0400 (Sat, 16 Oct 2021).

All results for package TabulaMurisSenisData

To the developers/maintainers of the TabulaMurisSenisData package:
Make sure to use the following settings in order to reproduce any error or warning you see on this page.

raw results

Package 368/404HostnameOS / ArchINSTALLBUILDCHECK
TabulaMurisSenisData 0.99.1  (landing page)
Charlotte Soneson
Snapshot Date: 2021-10-16 09:30:02 -0400 (Sat, 16 Oct 2021)
git_url: https://git.bioconductor.org/packages/TabulaMurisSenisData
git_branch: master
git_last_commit: aa2b174
git_last_commit_date: 2021-07-27 06:34:50 -0400 (Tue, 27 Jul 2021)
nebbiolo2Linux (Ubuntu 20.04.2 LTS) / x86_64  OK    OK    OK  UNNEEDED, same version is already published