Index of /checkResults/devel/data-experiment-LATEST/TMExplorer/raw-results/nebbiolo2

[ICO]NameLast modifiedSizeDescription

[DIR]Parent Directory  -  
[TXT]buildsrc-out.txt20-Jan-2022 22:37 931  
[   ]buildsrc-summary.dcf20-Jan-2022 22:37 435  
[TXT]checksrc-out.txt20-Jan-2022 22:37 3.1K 
[   ]checksrc-summary.dcf20-Jan-2022 22:37 456  
[TXT]install-out.txt20-Jan-2022 22:37 970  
[   ]install-summary.dcf20-Jan-2022 22:37 275