Index of /checkResults/devel/data-experiment-LATEST/TMExplorer/raw-results

[ICO]NameLast modifiedSizeDescription

[DIR]Parent Directory  -  
[DIR]nebbiolo2/25-Jan-2022 22:37 -  
[   ]info.dcf25-Jan-2022 22:37 268