Back to Build/check report for BioC 3.14 experimental data
ABCDEFGHIJKLMNOPQRS[T]UVWXYZ

This page was generated on 2021-10-21 15:52:04 -0400 (Thu, 21 Oct 2021).

INSTALL results for TMExplorer on nebbiolo2

To the developers/maintainers of the TMExplorer package:
Make sure to use the following settings in order to reproduce any error or warning you see on this page.

raw results

Package 390/406HostnameOS / ArchINSTALLBUILDCHECK
TMExplorer 1.3.1  (landing page)
Erik Christensen
Snapshot Date: 2021-10-21 09:30:01 -0400 (Thu, 21 Oct 2021)
git_url: https://git.bioconductor.org/packages/TMExplorer
git_branch: master
git_last_commit: 596d071
git_last_commit_date: 2021-05-20 15:04:53 -0400 (Thu, 20 May 2021)
nebbiolo2Linux (Ubuntu 20.04.2 LTS) / x86_64  OK    OK    OK  UNNEEDED, same version is already published

Summary

Package: TMExplorer
Version: 1.3.1
Command: /home/biocbuild/bbs-3.14-bioc/R/bin/R CMD INSTALL TMExplorer
StartedAt: 2021-10-21 11:02:23 -0400 (Thu, 21 Oct 2021)
EndedAt: 2021-10-21 11:02:41 -0400 (Thu, 21 Oct 2021)
EllapsedTime: 17.8 seconds
RetCode: 0
Status:   OK  

Command output

##############################################################################
##############################################################################
###
### Running command:
###
###   /home/biocbuild/bbs-3.14-bioc/R/bin/R CMD INSTALL TMExplorer
###
##############################################################################
##############################################################################


* installing to library ‘/home/biocbuild/bbs-3.14-bioc/R/library’
* installing *source* package ‘TMExplorer’ ...
** using staged installation
** R
** byte-compile and prepare package for lazy loading
** help
*** installing help indices
** building package indices
** installing vignettes
** testing if installed package can be loaded from temporary location
** testing if installed package can be loaded from final location
** testing if installed package keeps a record of temporary installation path
* DONE (TMExplorer)