Back to Build/check report for BioC 3.15 experimental data
ABCDEFGHIJKLMNOPQRS[T]UVWXYZ

This page was generated on 2021-11-28 18:35:04 -0500 (Sun, 28 Nov 2021).

BUILD results for TCGAMethylation450k on nebbiolo2

To the developers/maintainers of the TCGAMethylation450k package:
Make sure to use the following settings in order to reproduce any error or warning you see on this page.

raw results

Package 377/404HostnameOS / ArchINSTALLBUILDCHECK
TCGAMethylation450k 1.31.0  (landing page)
Sean Davis
Snapshot Date: 2021-11-28 08:30:02 -0500 (Sun, 28 Nov 2021)
git_url: https://git.bioconductor.org/packages/TCGAMethylation450k
git_branch: master
git_last_commit: a91cdb3
git_last_commit_date: 2021-10-26 11:47:32 -0500 (Tue, 26 Oct 2021)
nebbiolo2Linux (Ubuntu 20.04.3 LTS) / x86_64  OK    OK    OK  UNNEEDED, same version is already published

Summary

Package: TCGAMethylation450k
Version: 1.31.0
Command: /home/biocbuild/bbs-3.15-data-experiment/R/bin/R CMD build --keep-empty-dirs --no-resave-data TCGAMethylation450k
StartedAt: 2021-11-28 14:34:12 -0500 (Sun, 28 Nov 2021)
EndedAt: 2021-11-28 14:34:27 -0500 (Sun, 28 Nov 2021)
EllapsedTime: 15.8 seconds
RetCode: 0
Status:   OK  
PackageFile: TCGAMethylation450k_1.31.0.tar.gz
PackageFileSize: 81.02 MiB

Command output

##############################################################################
##############################################################################
###
### Running command:
###
###   /home/biocbuild/bbs-3.15-data-experiment/R/bin/R CMD build --keep-empty-dirs --no-resave-data TCGAMethylation450k
###
##############################################################################
##############################################################################


* checking for file ‘TCGAMethylation450k/DESCRIPTION’ ... OK
* preparing ‘TCGAMethylation450k’:
* checking DESCRIPTION meta-information ... OK
* checking for LF line-endings in source and make files and shell scripts
* checking for empty or unneeded directories
* building ‘TCGAMethylation450k_1.31.0.tar.gz’