Back to Build/check report for BioC 3.15 experimental data
ABCDEFGHIJKLMNOPQRS[T]UVWXYZ

This page was generated on 2021-10-26 15:49:12 -0400 (Tue, 26 Oct 2021).

All results for package TCGAMethylation450k

To the developers/maintainers of the TCGAMethylation450k package:
Make sure to use the following settings in order to reproduce any error or warning you see on this page.

raw results

Package 376/403HostnameOS / ArchINSTALLBUILDCHECK
TCGAMethylation450k 1.29.0  (landing page)
Sean Davis
Snapshot Date: 2021-10-26 09:30:01 -0400 (Tue, 26 Oct 2021)
git_url: https://git.bioconductor.org/packages/TCGAMethylation450k
git_branch: master
git_last_commit: 86c34c0
git_last_commit_date: 2021-05-19 11:32:50 -0400 (Wed, 19 May 2021)
nebbiolo1Linux (Ubuntu 20.04.2 LTS) / x86_64  OK    ERROR  skipped