Back to Build/check report for BioC 3.14 experimental data
ABCDEFGHIJKLMNOPQRS[T]UVWXYZ

This page was generated on 2021-10-16 15:51:46 -0400 (Sat, 16 Oct 2021).

BUILD results for TBX20BamSubset on nebbiolo2

To the developers/maintainers of the TBX20BamSubset package:
Make sure to use the following settings in order to reproduce any error or warning you see on this page.

raw results

Package 372/404HostnameOS / ArchINSTALLBUILDCHECK
TBX20BamSubset 1.29.0  (landing page)
D. Bindreither
Snapshot Date: 2021-10-16 09:30:02 -0400 (Sat, 16 Oct 2021)
git_url: https://git.bioconductor.org/packages/TBX20BamSubset
git_branch: master
git_last_commit: 3ae2211
git_last_commit_date: 2021-05-19 11:34:47 -0400 (Wed, 19 May 2021)
nebbiolo2Linux (Ubuntu 20.04.2 LTS) / x86_64  OK    OK    OK  UNNEEDED, same version is already published

Summary

Package: TBX20BamSubset
Version: 1.29.0
Command: /home/biocbuild/bbs-3.14-bioc/R/bin/R CMD build --keep-empty-dirs --no-resave-data TBX20BamSubset
StartedAt: 2021-10-16 11:36:12 -0400 (Sat, 16 Oct 2021)
EndedAt: 2021-10-16 11:36:33 -0400 (Sat, 16 Oct 2021)
EllapsedTime: 20.3 seconds
RetCode: 0
Status:   OK  
PackageFile: TBX20BamSubset_1.29.0.tar.gz
PackageFileSize: 94.68 MiB

Command output

##############################################################################
##############################################################################
###
### Running command:
###
###   /home/biocbuild/bbs-3.14-bioc/R/bin/R CMD build --keep-empty-dirs --no-resave-data TBX20BamSubset
###
##############################################################################
##############################################################################


* checking for file ‘TBX20BamSubset/DESCRIPTION’ ... OK
* preparing ‘TBX20BamSubset’:
* checking DESCRIPTION meta-information ... OK
* installing the package to build vignettes
* creating vignettes ... OK
* checking for LF line-endings in source and make files and shell scripts
* checking for empty or unneeded directories
* building ‘TBX20BamSubset_1.29.0.tar.gz’