Index of /checkResults/devel/data-experiment-LATEST/SpikeInSubset/raw-results

[ICO]NameLast modifiedSizeDescription

[DIR]Parent Directory  -  
[DIR]nebbiolo1/25-Nov-2022 04:51 -  
[   ]info.dcf25-Nov-2022 04:51 275