Back to Build/check report for BioC 3.14 experimental data
ABCDEFGHIJKLMNOPQR[S]TUVWXYZ

This page was generated on 2021-10-23 15:51:46 -0400 (Sat, 23 Oct 2021).

All results for package SpikeIn

To the developers/maintainers of the SpikeIn package:
Make sure to use the following settings in order to reproduce any error or warning you see on this page.

raw results

Package 362/408HostnameOS / ArchINSTALLBUILDCHECK
SpikeIn 1.35.0  (landing page)
Rafael A. Irizarry
Snapshot Date: 2021-10-23 09:30:01 -0400 (Sat, 23 Oct 2021)
git_url: https://git.bioconductor.org/packages/SpikeIn
git_branch: master
git_last_commit: 5e4ed9f
git_last_commit_date: 2021-05-19 11:25:48 -0400 (Wed, 19 May 2021)
nebbiolo2Linux (Ubuntu 20.04.2 LTS) / x86_64  OK    OK    WARNINGS  UNNEEDED, same version is already published