Back to Build/check report for BioC 3.14 experimental data
ABCDEFGHIJKLMNOPQR[S]TUVWXYZ

This page was generated on 2021-10-19 15:52:18 -0400 (Tue, 19 Oct 2021).

BUILD results for SomatiCAData on nebbiolo2

To the developers/maintainers of the SomatiCAData package:
Make sure to use the following settings in order to reproduce any error or warning you see on this page.

raw results

Package 354/404HostnameOS / ArchINSTALLBUILDCHECK
SomatiCAData 1.31.0  (landing page)
Mengjie Chen
Snapshot Date: 2021-10-19 09:30:02 -0400 (Tue, 19 Oct 2021)
git_url: https://git.bioconductor.org/packages/SomatiCAData
git_branch: master
git_last_commit: 8bb4dbf
git_last_commit_date: 2021-05-19 11:39:09 -0400 (Wed, 19 May 2021)
nebbiolo2Linux (Ubuntu 20.04.2 LTS) / x86_64  OK    OK    WARNINGS  UNNEEDED, same version is already published

Summary

Package: SomatiCAData
Version: 1.31.0
Command: /home/biocbuild/bbs-3.14-bioc/R/bin/R CMD build --keep-empty-dirs --no-resave-data SomatiCAData
StartedAt: 2021-10-19 11:36:01 -0400 (Tue, 19 Oct 2021)
EndedAt: 2021-10-19 11:36:04 -0400 (Tue, 19 Oct 2021)
EllapsedTime: 3.0 seconds
RetCode: 0
Status:   OK  
PackageFile: SomatiCAData_1.31.0.tar.gz
PackageFileSize: 32.14 MiB

Command output

##############################################################################
##############################################################################
###
### Running command:
###
###   /home/biocbuild/bbs-3.14-bioc/R/bin/R CMD build --keep-empty-dirs --no-resave-data SomatiCAData
###
##############################################################################
##############################################################################


* checking for file ‘SomatiCAData/DESCRIPTION’ ... OK
* preparing ‘SomatiCAData’:
* checking DESCRIPTION meta-information ... OK
* checking for LF line-endings in source and make files and shell scripts
* checking for empty or unneeded directories
* building ‘SomatiCAData_1.31.0.tar.gz’