Back to Build/check report for BioC 3.15 experimental data
ABCDEFGHIJKLMNOPQR[S]TUVWXYZ

This page was generated on 2021-12-05 17:50:12 -0500 (Sun, 05 Dec 2021).

All results for package SingleCellMultiModal

To the developers/maintainers of the SingleCellMultiModal package:
Make sure to use the following settings in order to reproduce any error or warning you see on this page.

raw results

Package 350/404HostnameOS / ArchINSTALLBUILDCHECK
SingleCellMultiModal 1.7.0  (landing page)
Marcel Ramos
Snapshot Date: 2021-12-05 07:30:02 -0500 (Sun, 05 Dec 2021)
git_url: https://git.bioconductor.org/packages/SingleCellMultiModal
git_branch: master
git_last_commit: 3a75538
git_last_commit_date: 2021-10-26 12:38:14 -0500 (Tue, 26 Oct 2021)
nebbiolo2Linux (Ubuntu 20.04.3 LTS) / x86_64  OK    OK    OK  UNNEEDED, same version is already published