Back to Build/check report for BioC 3.14 experimental data
ABCDEFGHIJKLMNOPQR[S]TUVWXYZ

This page was generated on 2021-10-23 15:51:47 -0400 (Sat, 23 Oct 2021).

BUILD results for SimBenchData on nebbiolo2

To the developers/maintainers of the SimBenchData package:
Make sure to use the following settings in order to reproduce any error or warning you see on this page.

raw results

Package 350/408HostnameOS / ArchINSTALLBUILDCHECK
SimBenchData 1.1.0  (landing page)
Yue Cao
Snapshot Date: 2021-10-23 09:30:01 -0400 (Sat, 23 Oct 2021)
git_url: https://git.bioconductor.org/packages/SimBenchData
git_branch: master
git_last_commit: 5f5cb70
git_last_commit_date: 2021-05-19 12:11:57 -0400 (Wed, 19 May 2021)
nebbiolo2Linux (Ubuntu 20.04.2 LTS) / x86_64  OK    OK    OK  UNNEEDED, same version is already published

Summary

Package: SimBenchData
Version: 1.1.0
Command: /home/biocbuild/bbs-3.14-bioc/R/bin/R CMD build --keep-empty-dirs --no-resave-data SimBenchData
StartedAt: 2021-10-23 11:36:03 -0400 (Sat, 23 Oct 2021)
EndedAt: 2021-10-23 11:36:22 -0400 (Sat, 23 Oct 2021)
EllapsedTime: 18.7 seconds
RetCode: 0
Status:   OK  
PackageFile: SimBenchData_1.1.0.tar.gz
PackageFileSize: 236.1 KiB

Command output

##############################################################################
##############################################################################
###
### Running command:
###
###   /home/biocbuild/bbs-3.14-bioc/R/bin/R CMD build --keep-empty-dirs --no-resave-data SimBenchData
###
##############################################################################
##############################################################################


* checking for file ‘SimBenchData/DESCRIPTION’ ... OK
* preparing ‘SimBenchData’:
* checking DESCRIPTION meta-information ... OK
* installing the package to build vignettes
* creating vignettes ... OK
* checking for LF line-endings in source and make files and shell scripts
* checking for empty or unneeded directories
Omitted ‘LazyData’ from DESCRIPTION
* building ‘SimBenchData_1.1.0.tar.gz’