Back to Build/check report for BioC 3.14 experimental data
ABCDEFGHIJKLMNOPQR[S]TUVWXYZ

This page was generated on 2021-10-23 15:51:46 -0400 (Sat, 23 Oct 2021).

All results for package SVM2CRMdata

To the developers/maintainers of the SVM2CRMdata package:
Make sure to use the following settings in order to reproduce any error or warning you see on this page.

raw results

Package 368/408HostnameOS / ArchINSTALLBUILDCHECK
SVM2CRMdata 1.25.0  (landing page)
Guidantonio Malagoli Tagliazucchi
Snapshot Date: 2021-10-23 09:30:01 -0400 (Sat, 23 Oct 2021)
git_url: https://git.bioconductor.org/packages/SVM2CRMdata
git_branch: master
git_last_commit: 27e1c27
git_last_commit_date: 2021-05-19 11:50:36 -0400 (Wed, 19 May 2021)
nebbiolo2Linux (Ubuntu 20.04.2 LTS) / x86_64  OK    OK    WARNINGS  UNNEEDED, same version is already published