Back to Build/check report for BioC 3.14 experimental data
ABCDEFGHIJKLMNOPQR[S]TUVWXYZ

This page was generated on 2021-10-16 15:51:46 -0400 (Sat, 16 Oct 2021).

INSTALL results for STexampleData on nebbiolo2

To the developers/maintainers of the STexampleData package:
Make sure to use the following settings in order to reproduce any error or warning you see on this page.

raw results

Package 362/404HostnameOS / ArchINSTALLBUILDCHECK
STexampleData 1.1.13  (landing page)
Lukas M. Weber
Snapshot Date: 2021-10-16 09:30:02 -0400 (Sat, 16 Oct 2021)
git_url: https://git.bioconductor.org/packages/STexampleData
git_branch: master
git_last_commit: ad01823
git_last_commit_date: 2021-08-04 11:46:53 -0400 (Wed, 04 Aug 2021)
nebbiolo2Linux (Ubuntu 20.04.2 LTS) / x86_64  OK    OK    OK  UNNEEDED, same version is already published

Summary

Package: STexampleData
Version: 1.1.13
Command: /home/biocbuild/bbs-3.14-bioc/R/bin/R CMD INSTALL STexampleData
StartedAt: 2021-10-16 11:03:41 -0400 (Sat, 16 Oct 2021)
EndedAt: 2021-10-16 11:04:11 -0400 (Sat, 16 Oct 2021)
EllapsedTime: 30.0 seconds
RetCode: 0
Status:   OK  

Command output

##############################################################################
##############################################################################
###
### Running command:
###
###   /home/biocbuild/bbs-3.14-bioc/R/bin/R CMD INSTALL STexampleData
###
##############################################################################
##############################################################################


* installing to library ‘/home/biocbuild/bbs-3.14-bioc/R/library’
* installing *source* package ‘STexampleData’ ...
** using staged installation
** R
** inst
** byte-compile and prepare package for lazy loading
** help
*** installing help indices
** building package indices
** installing vignettes
** testing if installed package can be loaded from temporary location
snapshotDate(): 2021-10-15
** testing if installed package can be loaded from final location
snapshotDate(): 2021-10-15
** testing if installed package keeps a record of temporary installation path
* DONE (STexampleData)