Back to Build/check report for BioC 3.14 experimental data
ABCDEFGHIJKLMNOPQR[S]TUVWXYZ

This page was generated on 2021-10-19 15:52:17 -0400 (Tue, 19 Oct 2021).

All results for package STexampleData

To the developers/maintainers of the STexampleData package:
Make sure to use the following settings in order to reproduce any error or warning you see on this page.

raw results

Package 362/404HostnameOS / ArchINSTALLBUILDCHECK
STexampleData 1.1.13  (landing page)
Lukas M. Weber
Snapshot Date: 2021-10-19 09:30:02 -0400 (Tue, 19 Oct 2021)
git_url: https://git.bioconductor.org/packages/STexampleData
git_branch: master
git_last_commit: ad01823
git_last_commit_date: 2021-08-04 11:46:53 -0400 (Wed, 04 Aug 2021)
nebbiolo2Linux (Ubuntu 20.04.2 LTS) / x86_64  OK    OK    OK  UNNEEDED, same version is already published