Back to Build/check report for BioC 3.14 experimental data
ABCDEFGHIJKLMNOPQR[S]TUVWXYZ

This page was generated on 2021-10-16 15:51:46 -0400 (Sat, 16 Oct 2021).

BUILD results for SNAGEEdata on nebbiolo2

To the developers/maintainers of the SNAGEEdata package:
Make sure to use the following settings in order to reproduce any error or warning you see on this page.

raw results

Package 352/404HostnameOS / ArchINSTALLBUILDCHECK
SNAGEEdata 1.29.0  (landing page)
David Venet
Snapshot Date: 2021-10-16 09:30:02 -0400 (Sat, 16 Oct 2021)
git_url: https://git.bioconductor.org/packages/SNAGEEdata
git_branch: master
git_last_commit: 0d293ed
git_last_commit_date: 2021-05-19 11:38:39 -0400 (Wed, 19 May 2021)
nebbiolo2Linux (Ubuntu 20.04.2 LTS) / x86_64  OK    OK    OK  UNNEEDED, same version is already published

Summary

Package: SNAGEEdata
Version: 1.29.0
Command: /home/biocbuild/bbs-3.14-bioc/R/bin/R CMD build --keep-empty-dirs --no-resave-data SNAGEEdata
StartedAt: 2021-10-16 11:34:34 -0400 (Sat, 16 Oct 2021)
EndedAt: 2021-10-16 11:34:36 -0400 (Sat, 16 Oct 2021)
EllapsedTime: 1.8 seconds
RetCode: 0
Status:   OK  
PackageFile: SNAGEEdata_1.29.0.tar.gz
PackageFileSize: 29.22 MiB

Command output

##############################################################################
##############################################################################
###
### Running command:
###
###   /home/biocbuild/bbs-3.14-bioc/R/bin/R CMD build --keep-empty-dirs --no-resave-data SNAGEEdata
###
##############################################################################
##############################################################################


* checking for file ‘SNAGEEdata/DESCRIPTION’ ... OK
* preparing ‘SNAGEEdata’:
* checking DESCRIPTION meta-information ... OK
* checking for LF line-endings in source and make files and shell scripts
* checking for empty or unneeded directories
* building ‘SNAGEEdata_1.29.0.tar.gz’