Back to Build/check report for BioC 3.14 experimental data
ABCDEFGHIJKLMNOPQR[S]TUVWXYZ

This page was generated on 2021-10-23 15:51:47 -0400 (Sat, 23 Oct 2021).

BUILD results for SCLCBam on nebbiolo2

To the developers/maintainers of the SCLCBam package:
Make sure to use the following settings in order to reproduce any error or warning you see on this page.

raw results

Package 338/408HostnameOS / ArchINSTALLBUILDCHECK
SCLCBam 1.25.0  (landing page)
Oscar Krijgsman
Snapshot Date: 2021-10-23 09:30:01 -0400 (Sat, 23 Oct 2021)
git_url: https://git.bioconductor.org/packages/SCLCBam
git_branch: master
git_last_commit: 87f9e6a
git_last_commit_date: 2021-05-19 11:51:06 -0400 (Wed, 19 May 2021)
nebbiolo2Linux (Ubuntu 20.04.2 LTS) / x86_64  OK    OK    OK  UNNEEDED, same version is already published

Summary

Package: SCLCBam
Version: 1.25.0
Command: /home/biocbuild/bbs-3.14-bioc/R/bin/R CMD build --keep-empty-dirs --no-resave-data SCLCBam
StartedAt: 2021-10-23 11:34:50 -0400 (Sat, 23 Oct 2021)
EndedAt: 2021-10-23 11:34:57 -0400 (Sat, 23 Oct 2021)
EllapsedTime: 6.9 seconds
RetCode: 0
Status:   OK  
PackageFile: SCLCBam_1.25.0.tar.gz
PackageFileSize: 57.84 MiB

Command output

##############################################################################
##############################################################################
###
### Running command:
###
###   /home/biocbuild/bbs-3.14-bioc/R/bin/R CMD build --keep-empty-dirs --no-resave-data SCLCBam
###
##############################################################################
##############################################################################


* checking for file ‘SCLCBam/DESCRIPTION’ ... OK
* preparing ‘SCLCBam’:
* checking DESCRIPTION meta-information ... OK
* installing the package to build vignettes
* creating vignettes ... OK
* checking for LF line-endings in source and make files and shell scripts
* checking for empty or unneeded directories
* building ‘SCLCBam_1.25.0.tar.gz’