Back to Build/check report for BioC 3.15 experimental data
ABCDEFGHIJKLMNOPQR[S]TUVWXYZ

This page was generated on 2021-12-05 17:50:13 -0500 (Sun, 05 Dec 2021).

INSTALL results for SBGNview.data on nebbiolo2

To the developers/maintainers of the SBGNview.data package:
Make sure to use the following settings in order to reproduce any error or warning you see on this page.

raw results

Package 331/404HostnameOS / ArchINSTALLBUILDCHECK
SBGNview.data 1.9.1  (landing page)
Weijun Luo
Snapshot Date: 2021-12-05 07:30:02 -0500 (Sun, 05 Dec 2021)
git_url: https://git.bioconductor.org/packages/SBGNview.data
git_branch: master
git_last_commit: 291f6fa
git_last_commit_date: 2021-11-21 23:42:01 -0500 (Sun, 21 Nov 2021)
nebbiolo2Linux (Ubuntu 20.04.3 LTS) / x86_64  OK    OK    OK  UNNEEDED, same version is already published

Summary

Package: SBGNview.data
Version: 1.9.1
Command: /home/biocbuild/bbs-3.15-data-experiment/R/bin/R CMD INSTALL SBGNview.data
StartedAt: 2021-12-05 13:01:03 -0500 (Sun, 05 Dec 2021)
EndedAt: 2021-12-05 13:01:19 -0500 (Sun, 05 Dec 2021)
EllapsedTime: 15.4 seconds
RetCode: 0
Status:   OK  

Command output

##############################################################################
##############################################################################
###
### Running command:
###
###   /home/biocbuild/bbs-3.15-data-experiment/R/bin/R CMD INSTALL SBGNview.data
###
##############################################################################
##############################################################################


* installing to library ‘/home/biocbuild/bbs-3.15-data-experiment/R/library’
* installing *source* package ‘SBGNview.data’ ...
** using staged installation
** R
** data
** byte-compile and prepare package for lazy loading
** help
*** installing help indices
** building package indices
** installing vignettes
** testing if installed package can be loaded from temporary location
** testing if installed package can be loaded from final location
** testing if installed package keeps a record of temporary installation path
* DONE (SBGNview.data)